BEGIN:VCALENDAR
VERSION:2.0
PRODID:-//Community Resilience Network Papakura - ECPv6.15.20//NONSGML v1.0//EN
CALSCALE:GREGORIAN
METHOD:PUBLISH
X-ORIGINAL-URL:https://crnpapakura.org
X-WR-CALDESC:Events for Community Resilience Network Papakura
REFRESH-INTERVAL;VALUE=DURATION:PT1H
X-Robots-Tag:noindex
X-PUBLISHED-TTL:PT1H
BEGIN:VTIMEZONE
TZID:Pacific/Auckland
BEGIN:STANDARD
TZOFFSETFROM:+1300
TZOFFSETTO:+1200
TZNAME:NZST
DTSTART:20240406T140000
END:STANDARD
BEGIN:DAYLIGHT
TZOFFSETFROM:+1200
TZOFFSETTO:+1300
TZNAME:NZDT
DTSTART:20240928T140000
END:DAYLIGHT
BEGIN:STANDARD
TZOFFSETFROM:+1300
TZOFFSETTO:+1200
TZNAME:NZST
DTSTART:20250405T140000
END:STANDARD
BEGIN:DAYLIGHT
TZOFFSETFROM:+1200
TZOFFSETTO:+1300
TZNAME:NZDT
DTSTART:20250927T140000
END:DAYLIGHT
BEGIN:STANDARD
TZOFFSETFROM:+1300
TZOFFSETTO:+1200
TZNAME:NZST
DTSTART:20260404T140000
END:STANDARD
BEGIN:DAYLIGHT
TZOFFSETFROM:+1200
TZOFFSETTO:+1300
TZNAME:NZDT
DTSTART:20260926T140000
END:DAYLIGHT
END:VTIMEZONE
BEGIN:VEVENT
DTSTART;TZID=Pacific/Auckland:20250222T100000
DTEND;TZID=Pacific/Auckland:20250222T130000
DTSTAMP:20260423T224313
CREATED:20241214T214313Z
LAST-MODIFIED:20241219T204934Z
UID:440-1740218400-1740229200@crnpapakura.org
SUMMARY:Follow-up workshop: Papakura - Let's get climate ready
DESCRIPTION:
URL:https://crnpapakura.org/event/follow-up-workshop-papakura-lets-get-climate-ready/
LOCATION:Papakura Local Board Office\, 35 Coles Crescent\, Papakura\, 2110\, New Zealand
CATEGORIES:Climate
END:VEVENT
END:VCALENDAR