BEGIN:VCALENDAR
VERSION:2.0
PRODID:-//Community Resilience Network Papakura - ECPv6.15.20//NONSGML v1.0//EN
CALSCALE:GREGORIAN
METHOD:PUBLISH
X-ORIGINAL-URL:https://crnpapakura.org
X-WR-CALDESC:Events for Community Resilience Network Papakura
REFRESH-INTERVAL;VALUE=DURATION:PT1H
X-Robots-Tag:noindex
X-PUBLISHED-TTL:PT1H
BEGIN:VTIMEZONE
TZID:Pacific/Auckland
BEGIN:STANDARD
TZOFFSETFROM:+1300
TZOFFSETTO:+1200
TZNAME:NZST
DTSTART:20250405T140000
END:STANDARD
BEGIN:DAYLIGHT
TZOFFSETFROM:+1200
TZOFFSETTO:+1300
TZNAME:NZDT
DTSTART:20250927T140000
END:DAYLIGHT
BEGIN:STANDARD
TZOFFSETFROM:+1300
TZOFFSETTO:+1200
TZNAME:NZST
DTSTART:20260404T140000
END:STANDARD
BEGIN:DAYLIGHT
TZOFFSETFROM:+1200
TZOFFSETTO:+1300
TZNAME:NZDT
DTSTART:20260926T140000
END:DAYLIGHT
BEGIN:STANDARD
TZOFFSETFROM:+1300
TZOFFSETTO:+1200
TZNAME:NZST
DTSTART:20270403T140000
END:STANDARD
BEGIN:DAYLIGHT
TZOFFSETFROM:+1200
TZOFFSETTO:+1300
TZNAME:NZDT
DTSTART:20270925T140000
END:DAYLIGHT
END:VTIMEZONE
BEGIN:VEVENT
DTSTART;TZID=Pacific/Auckland:20260419T133000
DTEND;TZID=Pacific/Auckland:20260419T153000
DTSTAMP:20260423T140423
CREATED:20260326T234153Z
LAST-MODIFIED:20260326T234153Z
UID:1760-1776605400-1776612600@crnpapakura.org
SUMMARY:Sew Sustainable: Repair\, Repurpose\, Redesign\, Free/Booking Required
DESCRIPTION:Join the Sustainable Fashion Movement!\nDo you love fashion but hate waste? Want to give your clothes a second life?\nSew Sustainable is your chance to learn practical skills that make a difference!\nRepair – Fix those rips\, tears\, and broken zips.\nRepurpose – Transform old garments into something fresh and fabulous.\nRedesign – Unleash your creativity and create unique\, sustainable fashion.\nBring: Clothes or other fabric items you’d like to repair or reinvent.\nWhy register for this workshop?\n*Reduce textile waste\n*Save money\n*Learn new sewing techniques like darning socks\n*Connect with like-minded makers\nOur facilitator and SP support volunteer will be available to help with machine and hand repairs and give assistance and advice as needed.\nEquipment and sewing supplies provided.\nHelp to save our planet by making the best use of the resources we have.
URL:https://crnpapakura.org/event/sew-sustainable-repair-repurpose-redesign-free-booking-required-2/
LOCATION:67 O’Shannessey Street\, 67 O'Shannessey Street\, Auckland\, Papakura\, 2110\, New Zealand
ORGANIZER;CN="Sustainable Papakura":MAILTO:activities@sustainablepapakura.org
END:VEVENT
BEGIN:VEVENT
DTSTART;TZID=Pacific/Auckland:20260420T093000
DTEND;TZID=Pacific/Auckland:20260420T120000
DTSTAMP:20260423T140423
CREATED:20260326T234824Z
LAST-MODIFIED:20260326T234824Z
UID:1766-1776677400-1776686400@crnpapakura.org
SUMMARY:Awhio Mai Peke Weekly Sewing Bee
DESCRIPTION:Join this friendly group of volunteers turning fabric destined for landfill into shopping bags for Papakura. Only basic sewing skills required.
URL:https://crnpapakura.org/event/awhio-mai-peke-weekly-sewing-bee-8/
LOCATION:67 O’Shannessey Street\, 67 O'Shannessey Street\, Auckland\, Papakura\, 2110\, New Zealand
ORGANIZER;CN="Sustainable Papakura":MAILTO:activities@sustainablepapakura.org
END:VEVENT
BEGIN:VEVENT
DTSTART;TZID=Pacific/Auckland:20260420T180000
DTEND;TZID=Pacific/Auckland:20260420T200000
DTSTAMP:20260423T140423
CREATED:20260326T234314Z
LAST-MODIFIED:20260326T234424Z
UID:1762-1776708000-1776715200@crnpapakura.org
SUMMARY:Te Reo in Action: Language\, Culture\, Connection. Free/Booking Required
DESCRIPTION:Join our Te Reo ki Papakura workshops and grow your confidence in te reo Māori while strengthening connection within our community.\nThese sessions support language revitalisation through practical learning\, local kōrero\, and shared whanaungatanga. Explore everyday kupu alongside sustainability‑focused words and concepts that help us care for Papatūānuku. Whether you’re starting your journey or building on what you know\, come learn\, connect\, and celebrate te reo Māori in a supportive\, welcoming space.
URL:https://crnpapakura.org/event/te-reo-in-action-language-culture-connection-free-booking-required-2/
LOCATION:67 O’Shannessey Street\, 67 O'Shannessey Street\, Auckland\, Papakura\, 2110\, New Zealand
ORGANIZER;CN="Sustainable Papakura":MAILTO:activities@sustainablepapakura.org
END:VEVENT
BEGIN:VEVENT
DTSTART;TZID=Pacific/Auckland:20260427T093000
DTEND;TZID=Pacific/Auckland:20260427T120000
DTSTAMP:20260423T140423
CREATED:20260326T234706Z
LAST-MODIFIED:20260326T234706Z
UID:1764-1777282200-1777291200@crnpapakura.org
SUMMARY:Awhio Mai Peke Weekly Sewing Bee
DESCRIPTION:Join this friendly group of volunteers turning fabric destined for landfill into shopping bags for Papakura. Only basic sewing skills required.
URL:https://crnpapakura.org/event/awhio-mai-peke-weekly-sewing-bee-7/
LOCATION:67 O’Shannessey Street\, 67 O'Shannessey Street\, Auckland\, Papakura\, 2110\, New Zealand
ORGANIZER;CN="Sustainable Papakura":MAILTO:activities@sustainablepapakura.org
END:VEVENT
BEGIN:VEVENT
DTSTART;TZID=Pacific/Auckland:20260429T183000
DTEND;TZID=Pacific/Auckland:20260429T203000
DTSTAMP:20260423T140423
CREATED:20260326T234954Z
LAST-MODIFIED:20260326T235028Z
UID:1768-1777487400-1777494600@crnpapakura.org
SUMMARY:Upcycle & Create: The Conscious Crafter Series. Free/Booking Required
DESCRIPTION:Discover the joy of crafting with purpose!\nJoin our Conscious Crafter Series\, where creativity meets sustainability. Get crafty the fun\, planet‑friendly way! \nJoin our upbeat workshop series where we twist old fabric into braided coasters or baskets\, turn T‑shirts into awesome bags\, splash into colourful wet‑felting\, and make unique creations from card. \nPerfect for anyone who loves crafting and cares about the planet\, these sessions are fun\, inspiring\, and beginner-friendly. Most materials are provided—and bring your imagination!
URL:https://crnpapakura.org/event/upcycle-create-the-conscious-crafter-series-free-booking-required/
LOCATION:67 O’Shannessey Street\, 67 O'Shannessey Street\, Auckland\, Papakura\, 2110\, New Zealand
ORGANIZER;CN="Sustainable Papakura":MAILTO:activities@sustainablepapakura.org
END:VEVENT
END:VCALENDAR