BEGIN:VCALENDAR
VERSION:2.0
PRODID:-//Community Resilience Network Papakura - ECPv6.15.20//NONSGML v1.0//EN
CALSCALE:GREGORIAN
METHOD:PUBLISH
X-WR-CALNAME:Community Resilience Network Papakura
X-ORIGINAL-URL:https://crnpapakura.org
X-WR-CALDESC:Events for Community Resilience Network Papakura
REFRESH-INTERVAL;VALUE=DURATION:PT1H
X-Robots-Tag:noindex
X-PUBLISHED-TTL:PT1H
BEGIN:VTIMEZONE
TZID:Pacific/Auckland
BEGIN:STANDARD
TZOFFSETFROM:+1300
TZOFFSETTO:+1200
TZNAME:NZST
DTSTART:20240406T140000
END:STANDARD
BEGIN:DAYLIGHT
TZOFFSETFROM:+1200
TZOFFSETTO:+1300
TZNAME:NZDT
DTSTART:20240928T140000
END:DAYLIGHT
BEGIN:STANDARD
TZOFFSETFROM:+1300
TZOFFSETTO:+1200
TZNAME:NZST
DTSTART:20250405T140000
END:STANDARD
BEGIN:DAYLIGHT
TZOFFSETFROM:+1200
TZOFFSETTO:+1300
TZNAME:NZDT
DTSTART:20250927T140000
END:DAYLIGHT
BEGIN:STANDARD
TZOFFSETFROM:+1300
TZOFFSETTO:+1200
TZNAME:NZST
DTSTART:20260404T140000
END:STANDARD
BEGIN:DAYLIGHT
TZOFFSETFROM:+1200
TZOFFSETTO:+1300
TZNAME:NZDT
DTSTART:20260926T140000
END:DAYLIGHT
END:VTIMEZONE
BEGIN:VEVENT
DTSTART;TZID=Pacific/Auckland:20251213T100000
DTEND;TZID=Pacific/Auckland:20251213T120000
DTSTAMP:20260423T104847
CREATED:20251003T041418Z
LAST-MODIFIED:20251210T201325Z
UID:1464-1765620000-1765627200@crnpapakura.org
SUMMARY:CRN booth @ the Museum: connecting locals on resilience and climate readiness
DESCRIPTION:Papakura Community Resilience Network drop-in booth with special guests to connect local people with latest info on resilience and climate readiness during the Papakura Museum ‘Living with Floods’ exhibition.  \nCRN booth will run on Saturdays 10am – 12noon\, October 2025 – March 2026. Everything from stormwater to property drainage\, to home energy efficiency and insurance advice\, and much more. \nToday’s topic:  Reforesting Papakura – the urban ngahere project\, Candy Li\, Urban Ngahere Project Manager
URL:https://crnpapakura.org/event/crn-booth-the-museum-connecting-locals-on-resilience-and-climate-readiness-5/
LOCATION:Papakura Museum\, 209 Great South Road\, Papakura\, Auckland\, Auckland\, 2110\, New Zealand
CATEGORIES:Climate,Community
ORGANIZER;CN="Community Resilience Network":MAILTO:papakuraresilience@gmail.com
END:VEVENT
BEGIN:VEVENT
DTSTART;TZID=Pacific/Auckland:20251206T100000
DTEND;TZID=Pacific/Auckland:20251206T120000
DTSTAMP:20260423T104847
CREATED:20250921T231638Z
LAST-MODIFIED:20251210T201318Z
UID:1432-1765015200-1765022400@crnpapakura.org
SUMMARY:CRN booth @ the Museum: connecting locals on resilience and climate readiness
DESCRIPTION:Papakura Community Resilience Network drop-in booth with special guests to connect local people with latest info on resilience and climate readiness during the Papakura Museum ‘Living with Floods’ exhibition.  \nCRN booth will run on Saturdays 10am – 12noon\, October 2025 – March 2026. Everything from stormwater to property drainage\, to home energy efficiency and insurance advice\, and much more. \nToday’s topic:  Supporting our diverse communities with disaster resilience and climate readiness – Language & cultural specialists and community connectors from Auckland Emergency Management 
URL:https://crnpapakura.org/event/crn-booth-the-museum-connecting-locals-on-resilience-and-climate-readiness-2/
LOCATION:Papakura Museum\, 209 Great South Road\, Papakura\, Auckland\, Auckland\, 2110\, New Zealand
ORGANIZER;CN="Community Resilience Network":MAILTO:papakuraresilience@gmail.com
END:VEVENT
BEGIN:VEVENT
DTSTART;TZID=Pacific/Auckland:20251129T100000
DTEND;TZID=Pacific/Auckland:20251129T120000
DTSTAMP:20260423T104847
CREATED:20251111T012022Z
LAST-MODIFIED:20251210T201311Z
UID:1542-1764410400-1764417600@crnpapakura.org
SUMMARY:CRN booth @ the Museum: connecting locals on resilience and climate readiness
DESCRIPTION:Papakura Community Resilience Network drop-in booth with special guests to connect local people with latest info on resilience and climate readiness during the Papakura Museum ‘Living with Floods’ exhibition. \nCRN booth will run on Saturdays 10am – 12noon\, October 2025 – March 2026. \nEverything from stormwater to property drainage\, to home energy efficiency and insurance advice\, and much more. \nToday’s topic:  Community Emergency Hubs – what are they? where are they? what do they offer?
URL:https://crnpapakura.org/event/crn-booth-the-museum-connecting-locals-on-resilience-and-climate-readiness-8/
LOCATION:Papakura Museum\, 209 Great South Road\, Papakura\, Auckland\, Auckland\, 2110\, New Zealand
ORGANIZER;CN="Community Resilience Network":MAILTO:papakuraresilience@gmail.com
END:VEVENT
BEGIN:VEVENT
DTSTART;TZID=Pacific/Auckland:20251122T100000
DTEND;TZID=Pacific/Auckland:20251122T120000
DTSTAMP:20260423T104847
CREATED:20251111T010812Z
LAST-MODIFIED:20251210T201305Z
UID:1538-1763805600-1763812800@crnpapakura.org
SUMMARY:CRN booth @ the Museum: connecting locals on resilience and climate readiness
DESCRIPTION:Papakura Community Resilience Network drop-in booth with special guests to connect local people with latest info on resilience and climate readiness during the Papakura Museum ‘Living with Floods’ exhibition. \nCRN booth will run on Saturdays 10am – 12noon\, October 2025 – March 2026. \nEverything from stormwater to property drainage\, to home energy efficiency and insurance advice\, and much more. \nToday’s topic:  Emergencies impact businesses too – practical tips for being prepared\, Neil Punja (Papakura Town Centre Manager)\, Greg Morgan (Auckland Emergency Management) & Ian Leader (Local Works) \n  \n 
URL:https://crnpapakura.org/event/crn-booth-the-museum-connecting-locals-on-resilience-and-climate-readiness-7/
LOCATION:Papakura Museum\, 209 Great South Road\, Papakura\, Auckland\, Auckland\, 2110\, New Zealand
ORGANIZER;CN="Community Resilience Network":MAILTO:papakuraresilience@gmail.com
END:VEVENT
BEGIN:VEVENT
DTSTART;TZID=Pacific/Auckland:20251115T100000
DTEND;TZID=Pacific/Auckland:20251115T120000
DTSTAMP:20260423T104847
CREATED:20251111T010153Z
LAST-MODIFIED:20251210T201300Z
UID:1534-1763200800-1763208000@crnpapakura.org
SUMMARY:CRN booth @ the Museum: connecting locals on resilience and climate readiness
DESCRIPTION:Papakura Community Resilience Network drop-in booth with special guests to connect local people with latest info on resilience and climate readiness during the Papakura Museum ‘Living with Floods’ exhibition. \nCRN booth will run on Saturdays 10am – 12noon\, October 2025 – March 2026. \nEverything from stormwater to property drainage\, to home energy efficiency and insurance advice\, and much more. \nToday’s topic:  Weathering tomorrow together\, Baruk Jacob (Innovation Researcher) & Cole Armstrong (Behaviour Change Specialist) \n 
URL:https://crnpapakura.org/event/crn-booth-the-museum-connecting-locals-on-resilience-and-climate-readiness-6/
LOCATION:Papakura Museum\, 209 Great South Road\, Papakura\, Auckland\, Auckland\, 2110\, New Zealand
ORGANIZER;CN="Community Resilience Network":MAILTO:papakuraresilience@gmail.com
END:VEVENT
BEGIN:VEVENT
DTSTART;TZID=Pacific/Auckland:20251108T100000
DTEND;TZID=Pacific/Auckland:20251108T120000
DTSTAMP:20260423T104847
CREATED:20251003T041106Z
LAST-MODIFIED:20251210T201254Z
UID:1462-1762596000-1762603200@crnpapakura.org
SUMMARY:CRN booth @ the Museum: connecting locals on resilience and climate readiness
DESCRIPTION:Papakura Community Resilience Network drop-in booth with special guests to connect local people with latest info on resilience and climate readiness during the Papakura Museum ‘Living with Floods’ exhibition.  \nCRN booth will run on Saturdays 10am – 12noon\, October 2025 – March 2026. Everything from stormwater to property drainage\, to home energy efficiency and insurance advice\, and much more. \nToday’s topic:  Warm\, dry\, healthy homes and flood-resilient sections\, Kootuitui ki Papakura 
URL:https://crnpapakura.org/event/crn-booth-the-museum-connecting-locals-on-resilience-and-climate-readiness-4/
LOCATION:Papakura Museum\, 209 Great South Road\, Papakura\, Auckland\, Auckland\, 2110\, New Zealand
CATEGORIES:Climate,Community
ORGANIZER;CN="Community Resilience Network":MAILTO:papakuraresilience@gmail.com
END:VEVENT
BEGIN:VEVENT
DTSTART;TZID=Pacific/Auckland:20251101T100000
DTEND;TZID=Pacific/Auckland:20251101T120000
DTSTAMP:20260423T104847
CREATED:20250930T042327Z
LAST-MODIFIED:20251210T201248Z
UID:1459-1761991200-1761998400@crnpapakura.org
SUMMARY:CRN booth @ the Museum: connecting locals on resilience and climate readiness
DESCRIPTION:Papakura Community Resilience Network drop-in booth with special guests to connect local people with latest info on resilience and climate readiness during the Papakura Museum ‘Living with Floods’ exhibition.  \nCRN booth will run on Saturdays 10am – 12noon\, October 2025 – March 2026. Everything from stormwater to property drainage\, to home energy efficiency and insurance advice\, and much more. \nToday’s topic:  Street Meets: Building local resilience one street at a time\, Karren Hunter\, Papakura CRN
URL:https://crnpapakura.org/event/crn-booth-the-museum-connecting-locals-on-resilience-and-climate-readiness-3/
LOCATION:Papakura Museum\, 209 Great South Road\, Papakura\, Auckland\, Auckland\, 2110\, New Zealand
ORGANIZER;CN="Community Resilience Network":MAILTO:papakuraresilience@gmail.com
END:VEVENT
BEGIN:VEVENT
DTSTART;TZID=Pacific/Auckland:20251028T180000
DTEND;TZID=Pacific/Auckland:20251028T193000
DTSTAMP:20260423T104847
CREATED:20250924T011147Z
LAST-MODIFIED:20251210T201240Z
UID:1435-1761674400-1761679800@crnpapakura.org
SUMMARY:CRN Meeting October
DESCRIPTION:Monthly meeting of the Community Resilience Network. Open to the public. Please join us if you’re looking to become involved or want to know more about resilience preparedness.
URL:https://crnpapakura.org/event/crn-meeting-october/
LOCATION:Papakura Radio Club\, Wellington Park\, 1R Great South Road\, Takanini\, Auckland\, 2112\, New Zealand
ORGANIZER;CN="Community Resilience Network":MAILTO:papakuraresilience@gmail.com
END:VEVENT
BEGIN:VEVENT
DTSTART;TZID=Pacific/Auckland:20251018T100000
DTEND;TZID=Pacific/Auckland:20251018T120000
DTSTAMP:20260423T104847
CREATED:20250921T231206Z
LAST-MODIFIED:20251210T201235Z
UID:1425-1760781600-1760788800@crnpapakura.org
SUMMARY:CRN booth @ the Museum: connecting locals on resilience and climate readiness
DESCRIPTION:Papakura Community Resilience Network drop-in booth with special guests to connect local people with latest info on resilience and climate readiness during the Papakura Museum ‘Living with Floods’ exhibition. \nCRN booth will run on Saturdays 10am – 12noon\, October 2025 – March 2026. Everything from stormwater to property drainage\, to home energy efficiency and insurance advice\, and much more. \nToday’s topic:  What are Papakura flood risks & what can we do about them? Brian Collins Chair\, Papakura CRN \n 
URL:https://crnpapakura.org/event/crn-booth-the-museum-connecting-locals-on-resilience-and-climate-readiness/
LOCATION:Papakura Museum\, 209 Great South Road\, Papakura\, Auckland\, Auckland\, 2110\, New Zealand
ORGANIZER;CN="Community Resilience Network":MAILTO:papakuraresilience@gmail.com
END:VEVENT
BEGIN:VEVENT
DTSTART;TZID=Pacific/Auckland:20251010T160000
DTEND;TZID=Pacific/Auckland:20251010T180000
DTSTAMP:20260423T104847
CREATED:20251003T042517Z
LAST-MODIFIED:20251210T201227Z
UID:1466-1760112000-1760119200@crnpapakura.org
SUMMARY:Buzzly Climate Ready Challenge workshop for rangatahi
DESCRIPTION:Are you a rangatahi with BIG ideas 💡 to take on climate change? This is your chance to get creative\, spark action\, and make a difference! \n👩‍🎨🎤 Work with 3 amazing University of Auckland experts – from climate science to mātauranga Māori\, art\, music & even VR 🌐 – who will help you shape your ideas into something powerful:\n🎬 video\n🎶 music\n🎨 mural or artwork\n📝 scriptwriting & storytelling \n✨ Complete the workshop & earn a certificate to boost your CV! \n📅 10 October\n🕓 4–6 PM\n📍 Papakura Library\n🍕 FREE entry + kai provided \n👉 Be part of the Buzzly Climate Ready Challenge: buzzly.nz
URL:https://crnpapakura.org/event/buzzly-climate-ready-challenge-workshop-for-rangatahi/
LOCATION:Papakura Library\, 209 Great South Road\, Papakura\, Auckland\, 2110\, New Zealand
CATEGORIES:Climate,Community
END:VEVENT
BEGIN:VEVENT
DTSTART;TZID=Pacific/Auckland:20250929T100000
DTEND;TZID=Pacific/Auckland:20250929T130000
DTSTAMP:20260423T104847
CREATED:20250907T044922Z
LAST-MODIFIED:20251210T201222Z
UID:1413-1759140000-1759150800@crnpapakura.org
SUMMARY:Essential First Aid
DESCRIPTION:Sharing life-saving knowledge to equip you to support whānau\, neighbours\, and community members at any time\, including during an emergency.      Delivered by Hato Hone St John \nHosted by Red Hill Community Centre in collaboration with Papakura Community Resilience Network and Auckland Emergency Management. \nTo register please email Maree: maree@beaven.co.nz \n 
URL:https://crnpapakura.org/event/essential-first-aid/
LOCATION:Red Hill Community Centre\, 163 Dominion Road Red Hill\, Papakura\, New Zealand
CATEGORIES:Civil Defense,Community,Training
ORGANIZER;CN="Community Resilience Network":MAILTO:papakuraresilience@gmail.com
END:VEVENT
BEGIN:VEVENT
DTSTART;TZID=Pacific/Auckland:20250928T143000
DTEND;TZID=Pacific/Auckland:20250928T170000
DTSTAMP:20260423T104847
CREATED:20250907T200126Z
LAST-MODIFIED:20251210T201156Z
UID:1422-1759069800-1759078800@crnpapakura.org
SUMMARY:Street Meet: Mossford Green / Ray Small Park
DESCRIPTION:For locals to come and meet their neighbours. \nA Street Meet is a simple get-together\, sharing some food under a gazebo on a berm\, or driveway\, or the corner of a local park – where people can say hello\, enjoy some snacks\, play games\, and get to know each other better \nIf you’d like more info or would be interested in hosting a Street Meet in your part of Papakura\, we can help. Email us at streetmeetpapakura@gmail.com
URL:https://crnpapakura.org/event/street-meet-mossford-green-ray-small-park/
LOCATION:Papakura
CATEGORIES:Community
END:VEVENT
BEGIN:VEVENT
DTSTART;TZID=Pacific/Auckland:20250923T180000
DTEND;TZID=Pacific/Auckland:20250923T193000
DTSTAMP:20260423T104847
CREATED:20250904T230029Z
LAST-MODIFIED:20250904T230050Z
UID:1398-1758650400-1758655800@crnpapakura.org
SUMMARY:CRN Meeting September
DESCRIPTION:Monthly meeting of the Community Resilience Network. Open to the public. Please join us if you’re looking to become involved or want to know more about resilience preparedness.
URL:https://crnpapakura.org/event/crn-meeting-september/
LOCATION:Papakura Marae\, 29 Hunua Road\, Papakura\, 2110\, New Zealand
CATEGORIES:CRN Meetings
ORGANIZER;CN="Community Resilience Network":MAILTO:papakuraresilience@gmail.com
END:VEVENT
BEGIN:VEVENT
DTSTART;TZID=Pacific/Auckland:20250915T100000
DTEND;TZID=Pacific/Auckland:20250915T130000
DTSTAMP:20260423T104847
CREATED:20250907T045022Z
LAST-MODIFIED:20251210T201204Z
UID:1410-1757930400-1757941200@crnpapakura.org
SUMMARY:Psychological First Aid Training
DESCRIPTION:Learn to provide initial emotional and practical support to someone who has experienced a traumatic event\, either in a large-scale disaster or a personal crisis.      Delivered by New Zealand Red Cross / Rīpeka Whero Aotearoa \nHosted by Red Hill Community Centre in collaboration with Papakura Community Resilience Network and Auckland Emergency Management. \nTo register please email Maree: maree@beaven.co.nz \n  \n 
URL:https://crnpapakura.org/event/psychological-first-aid-training/
LOCATION:Red Hill Community Centre\, 163 Dominion Road Red Hill\, Papakura\, New Zealand
CATEGORIES:Civil Defense,Community,Training
ORGANIZER;CN="Community Resilience Network":MAILTO:papakuraresilience@gmail.com
END:VEVENT
BEGIN:VEVENT
DTSTART;TZID=Pacific/Auckland:20250826T180000
DTEND;TZID=Pacific/Auckland:20250826T193000
DTSTAMP:20260423T104847
CREATED:20250522T045323Z
LAST-MODIFIED:20250522T045323Z
UID:948-1756231200-1756236600@crnpapakura.org
SUMMARY:CRN Meeting for August
DESCRIPTION:Monthly meeting of the Community Resilience Network. Open to the public. Please join us if you’re looking to become involved or want to know more about resilience preparedness.
URL:https://crnpapakura.org/event/crn-meeting-for-august/
LOCATION:Papakura
END:VEVENT
BEGIN:VEVENT
DTSTART;TZID=Pacific/Auckland:20250729T180000
DTEND;TZID=Pacific/Auckland:20250729T193000
DTSTAMP:20260423T104847
CREATED:20250522T045201Z
LAST-MODIFIED:20250522T045201Z
UID:945-1753812000-1753817400@crnpapakura.org
SUMMARY:CRN Meeting for July
DESCRIPTION:Monthly meeting of the Community Resilience Network. Open to the public. Please join us if you’re looking to become involved or want to know more about resilience preparedness.
URL:https://crnpapakura.org/event/crn-meeting-for-july/
LOCATION:Ngāti Tamaoho Trust\, 128 Hingaia Road\, Karaka\, New Zealand
END:VEVENT
BEGIN:VEVENT
DTSTART;TZID=Pacific/Auckland:20250625T100000
DTEND;TZID=Pacific/Auckland:20250626T140000
DTSTAMP:20260423T104847
CREATED:20250615T220439Z
LAST-MODIFIED:20250615T220502Z
UID:1113-1750845600-1750946400@crnpapakura.org
SUMMARY:Matariki Papakura High School Event
DESCRIPTION:
URL:https://crnpapakura.org/event/matariki-papakura-high-school-event/
LOCATION:Papakura
END:VEVENT
BEGIN:VEVENT
DTSTART;TZID=Pacific/Auckland:20250624T180000
DTEND;TZID=Pacific/Auckland:20250624T193000
DTSTAMP:20260423T104847
CREATED:20250522T044929Z
LAST-MODIFIED:20250522T044929Z
UID:942-1750788000-1750793400@crnpapakura.org
SUMMARY:CRN Meeting for June
DESCRIPTION:Monthly meeting of the Community Resilience Network. Open to the public. Please join us if you’re looking to become involved or want to know more about resilience preparedness.
URL:https://crnpapakura.org/event/crn-meeting-for-june/
LOCATION:Papakura Local Board Office\, 35 Coles Crescent\, Papakura\, 2110\, New Zealand
END:VEVENT
BEGIN:VEVENT
DTSTART;TZID=Pacific/Auckland:20250610T150000
DTEND;TZID=Pacific/Auckland:20250610T170000
DTSTAMP:20260423T104847
CREATED:20250523T213659Z
LAST-MODIFIED:20250523T213659Z
UID:950-1749567600-1749574800@crnpapakura.org
SUMMARY:Ōpaheke Park Opening
DESCRIPTION:Come and join us for the opening of the new Passive Park area! \nCelebrate our new space with a free sausage sizzle and activities provided by CPNZ\, Neighbourhood Support and the CRN. \n165 Ōpaheke Road by the Sports Grounds. (Rain day 17th June from 3-5pm.)
URL:https://crnpapakura.org/event/opaheke-park-opening/
LOCATION:Papakura
END:VEVENT
BEGIN:VEVENT
DTSTART;TZID=Pacific/Auckland:20250515T180000
DTEND;TZID=Pacific/Auckland:20250515T193000
DTSTAMP:20260423T104847
CREATED:20250323T221752Z
LAST-MODIFIED:20250323T222133Z
UID:778-1747332000-1747337400@crnpapakura.org
SUMMARY:CRN Meeting for May
DESCRIPTION:Monthly meeting of the Community Resilience Network. Open to the public. Please join us if you’re looking to become involved or want to know more about resilience preparedness.
URL:https://crnpapakura.org/event/crn-meeting-for-may/
LOCATION:Papakura Marae\, 29 Hunua Road\, Papakura\, 2110\, New Zealand
CATEGORIES:CRN Meetings
ATTACH;FMTTYPE=image/png:https://crnpapakura.org/wp-content/uploads/2024/12/Hoizontal-Logo.png
ORGANIZER;CN="Community Resilience Network":MAILTO:papakuraresilience@gmail.com
END:VEVENT
BEGIN:VEVENT
DTSTART;TZID=Pacific/Auckland:20250510T100000
DTEND;TZID=Pacific/Auckland:20250510T120000
DTSTAMP:20260423T104847
CREATED:20250411T220352Z
LAST-MODIFIED:20250411T220352Z
UID:830-1746871200-1746878400@crnpapakura.org
SUMMARY:Compost Collective DIY Boakshi Workshop
DESCRIPTION:Join us for a special Mother’s Day celebration with our DIY Bokashi Bucket Making Workshop! \nFree/Booking Required \nThis hands-on event is perfect for those looking to create a sustainable and meaningful gift to yourself\, or to a Mum. \nAll materials and tools will be provided\, and our facilitator\, Isabell\, will guide you through the process of making your own Bokashi bucket system. \nConnect with like-minded individuals in a fun and supportive space. Don’t miss out on this unique opportunity to learn about Bokashi composting and take home a completed bucket system ready to use at home. Reserve your spot today and make this Mother’s Day unforgettable! \nBring a power drill with a 5mm or bigger drill bit\, if you have one. Bring a notebook to take notes. \nChildren under 16 MUST be accompanied by an adult caregiver. \nBYO kai/food – Hot drinks and water available at The Base \nUse the Book Now button at the bottom right of this page to register via the compost collective site.
URL:https://crnpapakura.org/event/compost-collective-diy-boakshi-workshop/
LOCATION:Sustainable Papakura Base\, 67 O'Shannessey St\, Papakura\, New Zealand
END:VEVENT
BEGIN:VEVENT
DTSTART;TZID=Pacific/Auckland:20250429T180000
DTEND;TZID=Pacific/Auckland:20250429T193000
DTSTAMP:20260423T104847
CREATED:20241207T025104Z
LAST-MODIFIED:20250323T221939Z
UID:283-1745949600-1745955000@crnpapakura.org
SUMMARY:CRN Meeting for April
DESCRIPTION:Monthly meeting of the Community Resilience Network. Open to the public. Please join us if you’re looking to become involved or want to know more about resilience preparedness.
URL:https://crnpapakura.org/event/crn-meeting-for-april/
LOCATION:Red Hill Community Centre\, 163 Dominion Road Red Hill\, Papakura\, New Zealand
CATEGORIES:CRN Meetings
ATTACH;FMTTYPE=image/png:https://crnpapakura.org/wp-content/uploads/2024/11/Form-Header.png
END:VEVENT
BEGIN:VEVENT
DTSTART;TZID=Pacific/Auckland:20250417T103000
DTEND;TZID=Pacific/Auckland:20250417T123000
DTSTAMP:20260423T104847
CREATED:20250411T215942Z
LAST-MODIFIED:20250411T215942Z
UID:827-1744885800-1744893000@crnpapakura.org
SUMMARY:Earth Day Collage and Hanging Planter Workshop
DESCRIPTION:Find out more here: https://sustainablepapakura.org/ \nEnquires to: activities@sustainablepapakura.org
URL:https://crnpapakura.org/event/earth-day-collage-and-hanging-planter-workshop/
LOCATION:Sustainable Papakura Base\, 67 O'Shannessey St\, Papakura\, New Zealand
END:VEVENT
BEGIN:VEVENT
DTSTART;TZID=Pacific/Auckland:20250413T133000
DTEND;TZID=Pacific/Auckland:20250413T153000
DTSTAMP:20260423T104847
CREATED:20250411T220510Z
LAST-MODIFIED:20250411T220510Z
UID:832-1744551000-1744558200@crnpapakura.org
SUMMARY:Repair\, Repurpose\, Redesign with Marilyn
DESCRIPTION:Repair\, Repurpose\, Redesign with Marilyn\, Free/Booking Required \n\n\nGive your clothes a new lease on life.\n\n\nUpcycle existing garments.\n\n\nLearn how to darn socks.\n\n\nMend to Extend your favourite clothes and soft furnishings.\n\n\nGet the project that has been sitting around finished so it can be used.\n\n\nMarilyn will be available to help with machine and hand repairs and give assistance and advice as needed.\nEquipment and sewing supplies provided.\nHelp to save our planet by making the best use of the resources we have – and save yourself dollars.
URL:https://crnpapakura.org/event/repair-repurpose-redesign-with-marilyn/
LOCATION:Sustainable Papakura Base\, 67 O'Shannessey St\, Papakura\, New Zealand
END:VEVENT
BEGIN:VEVENT
DTSTART;TZID=Pacific/Auckland:20250406T140000
DTEND;TZID=Pacific/Auckland:20250406T170000
DTSTAMP:20260423T104847
CREATED:20250403T211439Z
LAST-MODIFIED:20250403T211439Z
UID:825-1743948000-1743958800@crnpapakura.org
SUMMARY:Voluntary wildfire evacuation exercise for Hanmer Springs
DESCRIPTION:A landmark multi-agency Civil Defence wildfire evacuation field exercise will take place in Hanmer Springs on Sunday 6 April 2025 to test community preparedness. \nThe exercise —the biggest of its kind in recent history — will bring together emergency services\, the Hanmer Springs Community Emergency Response Team\, Waka Kotahi NZTA\, Hurunui District Council\, residents\, businesses\, schools\, accommodation providers\, and tourists to test Hanmer Springs’s wildfire preparedness plan. \nHurunui Civil Defence Emergency Management will be the lead agency for the exercise on Sunday 6 April\, which will run throughout the day\, with the public phase of the exercise taking place between 2pm and 5pm. \nClick here for more info: https://www.hurunui.govt.nz/council/news?item=id:2te0o3rju17q9s489mrr
URL:https://crnpapakura.org/event/voluntary-wildfire-evacuation-exercise-for-hanmer-springs/
LOCATION:Papakura
END:VEVENT
BEGIN:VEVENT
DTSTART;TZID=Pacific/Auckland:20250405T100000
DTEND;TZID=Pacific/Auckland:20250405T130000
DTSTAMP:20260423T104847
CREATED:20250316T191115Z
LAST-MODIFIED:20250316T191130Z
UID:772-1743847200-1743858000@crnpapakura.org
SUMMARY:Papakura climate ready: Next steps workshop
DESCRIPTION:Last month\, locals got together and presented ideas for community projects to help get Papakura climate ready. \nA next steps workshop is coming up to: \n\nDevelop and share a ‘plan on a page’ to progress top priorities\nCollectively decide how to use startup/seed funding\n\nCome and be part of the action and share some lunch afterwards. \nIn the meantime\, check out the ideas: \nhttps://akhaveyoursay.aucklandcouncil.govt.nz/climate-change-papakura
URL:https://crnpapakura.org/event/papakura-climate-ready-next-steps-workshop/
LOCATION:Papakura Local Board Office\, 35 Coles Crescent\, Papakura\, 2110\, New Zealand
CATEGORIES:Climate,Community
END:VEVENT
BEGIN:VEVENT
DTSTART;TZID=Pacific/Auckland:20250329T083000
DTEND;TZID=Pacific/Auckland:20250329T140000
DTSTAMP:20260423T104847
CREATED:20250324T030631Z
LAST-MODIFIED:20250324T030631Z
UID:791-1743237000-1743256800@crnpapakura.org
SUMMARY:Community CDEM Forum
DESCRIPTION:This forum is a chance for community members and organisations to network and share information. There will be plenty of networking time during the breaks. In the discussion sessions there will be a chance toThis forum is a chance for community members and organisations to network and share information. There will be plenty of networking time during the breaks. In the discussion sessions there will be a chance to ask questions and share insights. ask questions and share insights.
URL:https://crnpapakura.org/event/community-cdem-forum/
LOCATION:Te Manawa Community Hub\, 11 Kohuhu Lane\, Westgate\, Auckland\, New Zealand
CATEGORIES:Civil Defense,Community,Training
END:VEVENT
BEGIN:VEVENT
DTSTART;TZID=Pacific/Auckland:20250328T093000
DTEND;TZID=Pacific/Auckland:20250328T153000
DTSTAMP:20260423T104847
CREATED:20250304T005546Z
LAST-MODIFIED:20250304T005546Z
UID:738-1743154200-1743175800@crnpapakura.org
SUMMARY:FREE AED AWARENESS TRAINING
DESCRIPTION:Join us for a short practical session covering essential AED awarness and basic CPR training.\nThis training is perfect for anyone looking to gain confidence in emergency situations. \nMORNING SESSION: 9:30AM – 11:30AM\nAFTERNOON SESSION: 1:30PM – 3:30PM \nCONTACT\nPaula Southon\npaula.southon@vhnz.co.nz\n027 224 9704
URL:https://crnpapakura.org/event/free-aed-awareness-training/
LOCATION:VHNZ\, 7 DENT PLACE\, PAPAKURA\, AUCKLAND\, New Zealand
CATEGORIES:Training
END:VEVENT
BEGIN:VEVENT
DTSTART;TZID=Pacific/Auckland:20250325T180000
DTEND;TZID=Pacific/Auckland:20250325T193000
DTSTAMP:20260423T104847
CREATED:20241207T024803Z
LAST-MODIFIED:20241207T025328Z
UID:278-1742925600-1742931000@crnpapakura.org
SUMMARY:CRN meeting for March
DESCRIPTION:Monthly meeting of the Community Resilience Network. Open to the public. Please join us if you’re looking to become involved or want to know more about resilience prepardness.
URL:https://crnpapakura.org/event/crn-meeting-for-march/
LOCATION:Takaanini Gurdwara Library\, 70 Takaanini School Road\, Takaanini\, New Zealand
CATEGORIES:CRN Meetings
ATTACH;FMTTYPE=image/png:https://crnpapakura.org/wp-content/uploads/2024/11/Form-Header.png
END:VEVENT
BEGIN:VEVENT
DTSTART;TZID=Pacific/Auckland:20250308T100000
DTEND;TZID=Pacific/Auckland:20250308T140000
DTSTAMP:20260423T104847
CREATED:20250304T004505Z
LAST-MODIFIED:20250304T004606Z
UID:734-1741428000-1741442400@crnpapakura.org
SUMMARY:Papakura ParkFest
DESCRIPTION:Neighbourhood Support Papakura District at Papakura ParkFest! \n\n\nJoin Neighbourhood Support Papakura District at Papakura ParkFest this Saturday from 10 a.m. to 2 p.m. in Zone 3\, alongside the Community Resilience Network(CRN)!\n\n\n Family Fun Alert! Kids can enjoy the exciting quoits game hosted by our friends at CRN\, with fantastic prizes up for grabs.\n\n\n Strengthen Your Neighbourhood:\n\n\n\nDiscover how Neighbourhood Support helps build safer\, more connected communities.\n\n\n\n\nLearn valuable tips about crime awareness and prevention.\n\n\n\n\nConnect with neighbours\, strengthen community bonds\, and enhance your neighbourhood’s safety.
URL:https://crnpapakura.org/event/papakura-parkfest/
LOCATION:Central Park\, Opaheke Road and Chapel Street\, Papakura\, Auckland\, New Zealand
CATEGORIES:Community
ATTACH;FMTTYPE=image/jpeg:https://crnpapakura.org/wp-content/uploads/2025/03/Event-Document_2025_FINAL.jpg
END:VEVENT
END:VCALENDAR