BEGIN:VCALENDAR
VERSION:2.0
PRODID:-//Community Resilience Network Papakura - ECPv6.15.20//NONSGML v1.0//EN
CALSCALE:GREGORIAN
METHOD:PUBLISH
X-WR-CALNAME:Community Resilience Network Papakura
X-ORIGINAL-URL:https://crnpapakura.org
X-WR-CALDESC:Events for Community Resilience Network Papakura
REFRESH-INTERVAL;VALUE=DURATION:PT1H
X-Robots-Tag:noindex
X-PUBLISHED-TTL:PT1H
BEGIN:VTIMEZONE
TZID:Pacific/Auckland
BEGIN:STANDARD
TZOFFSETFROM:+1300
TZOFFSETTO:+1200
TZNAME:NZST
DTSTART:20250405T140000
END:STANDARD
BEGIN:DAYLIGHT
TZOFFSETFROM:+1200
TZOFFSETTO:+1300
TZNAME:NZDT
DTSTART:20250927T140000
END:DAYLIGHT
BEGIN:STANDARD
TZOFFSETFROM:+1300
TZOFFSETTO:+1200
TZNAME:NZST
DTSTART:20260404T140000
END:STANDARD
BEGIN:DAYLIGHT
TZOFFSETFROM:+1200
TZOFFSETTO:+1300
TZNAME:NZDT
DTSTART:20260926T140000
END:DAYLIGHT
BEGIN:STANDARD
TZOFFSETFROM:+1300
TZOFFSETTO:+1200
TZNAME:NZST
DTSTART:20270403T140000
END:STANDARD
BEGIN:DAYLIGHT
TZOFFSETFROM:+1200
TZOFFSETTO:+1300
TZNAME:NZDT
DTSTART:20270925T140000
END:DAYLIGHT
END:VTIMEZONE
BEGIN:VEVENT
DTSTART;TZID=Pacific/Auckland:20260224T180000
DTEND;TZID=Pacific/Auckland:20260224T193000
DTSTAMP:20260423T094515
CREATED:20251218T043832Z
LAST-MODIFIED:20260223T022514Z
UID:1635-1771956000-1771961400@crnpapakura.org
SUMMARY:CRN Meeting (Feb 2026)
DESCRIPTION:Monthly meeting of the Community Resilience Network. Open to the public. Please join us if you’re looking to become involved or want to know more about resilience preparedness.
URL:https://crnpapakura.org/event/crn-meeting-feb-2026/
LOCATION:Red Hill Community Centre\, 163 Dominion Road Red Hill\, Papakura\, New Zealand
CATEGORIES:CRN Meetings
ATTACH;FMTTYPE=image/png:https://crnpapakura.org/wp-content/uploads/2025/12/20251129-Red-Hill-Community-Centre-edited.png
ORGANIZER;CN="Community Resilience Network":MAILTO:papakuraresilience@gmail.com
END:VEVENT
END:VCALENDAR