BEGIN:VCALENDAR
VERSION:2.0
PRODID:-//Community Resilience Network Papakura - ECPv6.15.20//NONSGML v1.0//EN
CALSCALE:GREGORIAN
METHOD:PUBLISH
X-WR-CALNAME:Community Resilience Network Papakura
X-ORIGINAL-URL:https://crnpapakura.org
X-WR-CALDESC:Events for Community Resilience Network Papakura
REFRESH-INTERVAL;VALUE=DURATION:PT1H
X-Robots-Tag:noindex
X-PUBLISHED-TTL:PT1H
BEGIN:VTIMEZONE
TZID:Pacific/Auckland
BEGIN:STANDARD
TZOFFSETFROM:+1300
TZOFFSETTO:+1200
TZNAME:NZST
DTSTART:20250405T140000
END:STANDARD
BEGIN:DAYLIGHT
TZOFFSETFROM:+1200
TZOFFSETTO:+1300
TZNAME:NZDT
DTSTART:20250927T140000
END:DAYLIGHT
BEGIN:STANDARD
TZOFFSETFROM:+1300
TZOFFSETTO:+1200
TZNAME:NZST
DTSTART:20260404T140000
END:STANDARD
BEGIN:DAYLIGHT
TZOFFSETFROM:+1200
TZOFFSETTO:+1300
TZNAME:NZDT
DTSTART:20260926T140000
END:DAYLIGHT
BEGIN:STANDARD
TZOFFSETFROM:+1300
TZOFFSETTO:+1200
TZNAME:NZST
DTSTART:20270403T140000
END:STANDARD
BEGIN:DAYLIGHT
TZOFFSETFROM:+1200
TZOFFSETTO:+1300
TZNAME:NZDT
DTSTART:20270925T140000
END:DAYLIGHT
END:VTIMEZONE
BEGIN:VEVENT
DTSTART;TZID=Pacific/Auckland:20260120T180000
DTEND;TZID=Pacific/Auckland:20260120T193000
DTSTAMP:20260423T112704
CREATED:20251218T041554Z
LAST-MODIFIED:20251218T044438Z
UID:1622-1768932000-1768937400@crnpapakura.org
SUMMARY:CRN Meeting (Jan 2026)
DESCRIPTION:Monthly meeting of the Community Resilience Network. Open to the public. Please join us if you’re looking to become involved or want to know more about resilience preparedness.
URL:https://crnpapakura.org/event/crn-meeting-jan-2026/
LOCATION:Sustainable Papakura Base\, 67 O'Shannessey St\, Papakura\, New Zealand
CATEGORIES:CRN Meetings
ATTACH;FMTTYPE=image/png:https://crnpapakura.org/wp-content/uploads/2024/12/Header-Image-1.png
ORGANIZER;CN="Community Resilience Network":MAILTO:papakuraresilience@gmail.com
END:VEVENT
END:VCALENDAR